BEGIN:VCALENDAR
VERSION:2.0
PRODID:-//Familienzentrum - ECPv6.15.18//NONSGML v1.0//EN
CALSCALE:GREGORIAN
METHOD:PUBLISH
X-WR-CALNAME:Familienzentrum
X-ORIGINAL-URL:https://fiv-goch.de
X-WR-CALDESC:Veranstaltungen für Familienzentrum
REFRESH-INTERVAL;VALUE=DURATION:PT1H
X-Robots-Tag:noindex
X-PUBLISHED-TTL:PT1H
BEGIN:VTIMEZONE
TZID:Europe/Berlin
BEGIN:DAYLIGHT
TZOFFSETFROM:+0100
TZOFFSETTO:+0200
TZNAME:CEST
DTSTART:20240331T010000
END:DAYLIGHT
BEGIN:STANDARD
TZOFFSETFROM:+0200
TZOFFSETTO:+0100
TZNAME:CET
DTSTART:20241027T010000
END:STANDARD
BEGIN:DAYLIGHT
TZOFFSETFROM:+0100
TZOFFSETTO:+0200
TZNAME:CEST
DTSTART:20250330T010000
END:DAYLIGHT
BEGIN:STANDARD
TZOFFSETFROM:+0200
TZOFFSETTO:+0100
TZNAME:CET
DTSTART:20251026T010000
END:STANDARD
BEGIN:DAYLIGHT
TZOFFSETFROM:+0100
TZOFFSETTO:+0200
TZNAME:CEST
DTSTART:20260329T010000
END:DAYLIGHT
BEGIN:STANDARD
TZOFFSETFROM:+0200
TZOFFSETTO:+0100
TZNAME:CET
DTSTART:20261025T010000
END:STANDARD
END:VTIMEZONE
BEGIN:VEVENT
DTSTART;TZID=Europe/Berlin:20250305T193000
DTEND;TZID=Europe/Berlin:20250305T214500
DTSTAMP:20260421T114303
CREATED:20241217T103055Z
LAST-MODIFIED:20250206T091445Z
UID:3711-1741203000-1741211100@fiv-goch.de
SUMMARY:Typisch Junge - Typisch Mädchen
DESCRIPTION:Kinder erleben in ihrer Familie und ihrer Lebensumwelt viele Rollenbilder von Mann und Frau. Eltern erfahren an diesem Abend\, wie sich geschlechtsspezifisches Verhalten entwickelt. Sie erhalten Tipps\, wie Erziehung so Einfluss nehmen kann\, dass Kinder – unabhängig von ihrem biologischen Geschlecht – ihre Fähigkeiten und Interessen flexibel und nach ihren Bedürfnissen entwickeln können. Dazu gehört auch\, dass Jungen und Mädchen in „untypischen“ Verhaltensweisen von den Eltern akzeptiert und gefördert werden. In Kooperation mit dem Familienzentrum Arnold Janssen\, Goch.\n\n\n\nAnmeldungen direkt bei der Familienbildungsstätte oder in unseren Kindergärten.\n\n\n\n\n\nhttps://fbs-kalkar.de/produkt/typisch-junge-typisch-maedchen-2/
URL:https://fiv-goch.de/termin/typisch-junge-typisch-maedchen/
LOCATION:Kath. Kindergarten Liebfrauen\, Kalkarer Str. 34\, Goch
CATEGORIES:Veranstaltung
ATTACH;FMTTYPE=image/jpeg:https://fiv-goch.de/wp-content/uploads/2024/12/Typisch-Junge-Typisch-Maedchen-FBS-05.03.2025.jpg
END:VEVENT
END:VCALENDAR