BEGIN:VCALENDAR
VERSION:2.0
PRODID:-//Familienzentrum - ECPv6.15.18//NONSGML v1.0//EN
CALSCALE:GREGORIAN
METHOD:PUBLISH
X-WR-CALNAME:Familienzentrum
X-ORIGINAL-URL:https://fiv-goch.de
X-WR-CALDESC:Veranstaltungen für Familienzentrum
REFRESH-INTERVAL;VALUE=DURATION:PT1H
X-Robots-Tag:noindex
X-PUBLISHED-TTL:PT1H
BEGIN:VTIMEZONE
TZID:Europe/Berlin
BEGIN:DAYLIGHT
TZOFFSETFROM:+0100
TZOFFSETTO:+0200
TZNAME:CEST
DTSTART:20250330T010000
END:DAYLIGHT
BEGIN:STANDARD
TZOFFSETFROM:+0200
TZOFFSETTO:+0100
TZNAME:CET
DTSTART:20251026T010000
END:STANDARD
BEGIN:DAYLIGHT
TZOFFSETFROM:+0100
TZOFFSETTO:+0200
TZNAME:CEST
DTSTART:20260329T010000
END:DAYLIGHT
BEGIN:STANDARD
TZOFFSETFROM:+0200
TZOFFSETTO:+0100
TZNAME:CET
DTSTART:20261025T010000
END:STANDARD
BEGIN:DAYLIGHT
TZOFFSETFROM:+0100
TZOFFSETTO:+0200
TZNAME:CEST
DTSTART:20270328T010000
END:DAYLIGHT
BEGIN:STANDARD
TZOFFSETFROM:+0200
TZOFFSETTO:+0100
TZNAME:CET
DTSTART:20271031T010000
END:STANDARD
END:VTIMEZONE
BEGIN:VEVENT
DTSTART;TZID=Europe/Berlin:20260422T190000
DTEND;TZID=Europe/Berlin:20260422T203000
DTSTAMP:20260422T015231
CREATED:20260121T114752Z
LAST-MODIFIED:20260129T072630Z
UID:4277-1776884400-1776889800@fiv-goch.de
SUMMARY:Video - Sprechstunde der Beratungsstelle für Ehe-\, Familien und Lebensfragen
DESCRIPTION:Unser Kooperationspartner gibt die Möglichkeit zur Online Sprechstunde. \nDas Angebot ist vertraulich und kostenlos. \nNähere Information und Anmeldung findet ihr auf dem Plakat.
URL:https://fiv-goch.de/termin/video-sprechstunde-der-beratungsstelle-fuer-ehe-familien-und-lebensfragen-2-2-2/
LOCATION:ONLINE Veranstaltung
CATEGORIES:Veranstaltung
ATTACH;FMTTYPE=image/jpeg:https://fiv-goch.de/wp-content/uploads/2026/01/2026_04_Videosprechstunde-FZ-Weisser-1.jpg
END:VEVENT
END:VCALENDAR