BEGIN:VCALENDAR
VERSION:2.0
PRODID:-//Familienzentrum - ECPv6.15.18//NONSGML v1.0//EN
CALSCALE:GREGORIAN
METHOD:PUBLISH
X-WR-CALNAME:Familienzentrum
X-ORIGINAL-URL:https://fiv-goch.de
X-WR-CALDESC:Veranstaltungen für Familienzentrum
REFRESH-INTERVAL;VALUE=DURATION:PT1H
X-Robots-Tag:noindex
X-PUBLISHED-TTL:PT1H
BEGIN:VTIMEZONE
TZID:Europe/Berlin
BEGIN:DAYLIGHT
TZOFFSETFROM:+0100
TZOFFSETTO:+0200
TZNAME:CEST
DTSTART:20230326T010000
END:DAYLIGHT
BEGIN:STANDARD
TZOFFSETFROM:+0200
TZOFFSETTO:+0100
TZNAME:CET
DTSTART:20231029T010000
END:STANDARD
BEGIN:DAYLIGHT
TZOFFSETFROM:+0100
TZOFFSETTO:+0200
TZNAME:CEST
DTSTART:20240331T010000
END:DAYLIGHT
BEGIN:STANDARD
TZOFFSETFROM:+0200
TZOFFSETTO:+0100
TZNAME:CET
DTSTART:20241027T010000
END:STANDARD
BEGIN:DAYLIGHT
TZOFFSETFROM:+0100
TZOFFSETTO:+0200
TZNAME:CEST
DTSTART:20250330T010000
END:DAYLIGHT
BEGIN:STANDARD
TZOFFSETFROM:+0200
TZOFFSETTO:+0100
TZNAME:CET
DTSTART:20251026T010000
END:STANDARD
END:VTIMEZONE
BEGIN:VEVENT
DTSTART;TZID=Europe/Berlin:20240324T110000
DTEND;TZID=Europe/Berlin:20240324T120000
DTSTAMP:20260421T124648
CREATED:20240226T131005Z
LAST-MODIFIED:20240327T101924Z
UID:2297-1711278000-1711281600@fiv-goch.de
SUMMARY:Familiengottesdienst zu Palmsonntag
DESCRIPTION:Herzliche Einladung zum Familiengottesdienst in der Arnold Janssen Kirche. \nDer Gottesdienst ist gestaltet vom Kindergarten St. Maria Magdalena. \n 
URL:https://fiv-goch.de/termin/veranstaltung-1/
LOCATION:Arnold Janssen Kirche Goch\, Voßheider Str. 92\, 47574 Goch\, Goch\, Deutschland
CATEGORIES:Veranstaltung
END:VEVENT
END:VCALENDAR