BEGIN:VCALENDAR
VERSION:2.0
PRODID:-//Familienzentrum - ECPv6.15.18//NONSGML v1.0//EN
CALSCALE:GREGORIAN
METHOD:PUBLISH
X-ORIGINAL-URL:https://fiv-goch.de
X-WR-CALDESC:Veranstaltungen für Familienzentrum
REFRESH-INTERVAL;VALUE=DURATION:PT1H
X-Robots-Tag:noindex
X-PUBLISHED-TTL:PT1H
BEGIN:VTIMEZONE
TZID:Europe/Berlin
BEGIN:DAYLIGHT
TZOFFSETFROM:+0100
TZOFFSETTO:+0200
TZNAME:CEST
DTSTART:20230326T010000
END:DAYLIGHT
BEGIN:STANDARD
TZOFFSETFROM:+0200
TZOFFSETTO:+0100
TZNAME:CET
DTSTART:20231029T010000
END:STANDARD
BEGIN:DAYLIGHT
TZOFFSETFROM:+0100
TZOFFSETTO:+0200
TZNAME:CEST
DTSTART:20240331T010000
END:DAYLIGHT
BEGIN:STANDARD
TZOFFSETFROM:+0200
TZOFFSETTO:+0100
TZNAME:CET
DTSTART:20241027T010000
END:STANDARD
BEGIN:DAYLIGHT
TZOFFSETFROM:+0100
TZOFFSETTO:+0200
TZNAME:CEST
DTSTART:20250330T010000
END:DAYLIGHT
BEGIN:STANDARD
TZOFFSETFROM:+0200
TZOFFSETTO:+0100
TZNAME:CET
DTSTART:20251026T010000
END:STANDARD
END:VTIMEZONE
BEGIN:VEVENT
DTSTART;TZID=Europe/Berlin:20240414T110000
DTEND;TZID=Europe/Berlin:20240414T114500
DTSTAMP:20260425T171038
CREATED:20240327T101202Z
LAST-MODIFIED:20240327T103644Z
UID:3010-1713092400-1713095100@fiv-goch.de
SUMMARY:Gottesdienst mit Kinderkatechese
DESCRIPTION:  \nAn diesem Sonntag findet ein Gottesdienst mit Kinderkatechese statt. \nAlle Kinder sind herzlich willkommen \n 
URL:https://fiv-goch.de/termin/gottesdienst-mit-kinderkatechese/
LOCATION:Arnold Janssen Kirche Goch\, Voßheider Str. 92\, 47574 Goch\, Goch\, Deutschland
CATEGORIES:Veranstaltung
ATTACH;FMTTYPE=image/jpeg:https://fiv-goch.de/wp-content/uploads/2024/03/Kinderkatechese-1.-Halbjahr-2024-scaled.jpg
END:VEVENT
END:VCALENDAR